BEGIN:VCALENDAR
VERSION:2.0
PRODID:-//www.barthsyndrome.org//NONSGML kigkonsult.se iCalcreator 2.30.10/
 /
CALSCALE:GREGORIAN
METHOD:PUBLISH
UID:1b5d6ef1-838e-4ec0-94f7-2e00e41f06c8
X-WR-CALDESC:Dedicated to promoting development in the field of structural\
 , valvular and congenital heart interventions worldwide.  Heart Failure Wo
 rkshop\n\n
X-WR-RELCALID:c08990a794604bd336343ee33fc8f923
X-WR-TIMEZONE:America/New_York
BEGIN:VTIMEZONE
TZID:America/New_York
BEGIN:STANDARD
TZNAME:EST
DTSTART:20191103T020000
TZOFFSETFROM:-0400
TZOFFSETTO:-0500
RDATE:20201101T020000
END:STANDARD
BEGIN:DAYLIGHT
TZNAME:EDT
DTSTART:20190310T020000
TZOFFSETFROM:-0500
TZOFFSETTO:-0400
RDATE:20200308T020000
RDATE:20210314T020000
END:DAYLIGHT
END:VTIMEZONE
BEGIN:VEVENT
UID:70a505e3-6ff3-4819-a509-726d6b62941d
DTSTAMP:20260425T105646Z
DESCRIPTION:Dedicated to promoting development in the field of structural\,
  valvular and congenital heart interventions worldwide.  Heart Failure Wor
 kshop\n\n
DTSTART;TZID=America/New_York:20191213T000000
DTEND;TZID=America/New_York:20191215T235900
LOCATION:
SUMMARY:Device Therapies for Heart Failure
END:VEVENT
END:VCALENDAR
