BEGIN:VCALENDAR
VERSION:2.0
PRODID:-//www.barthsyndrome.org//NONSGML kigkonsult.se iCalcreator 2.30.10/
 /
CALSCALE:GREGORIAN
METHOD:PUBLISH
UID:68947a2c-a344-40e5-a6e5-f7547ce87b96
X-WR-CALDESC:Webinar with Dr. John Jeffries as part of February Heart Disea
 se Awareness Month. Details TBD.
X-WR-RELCALID:d3734106f5eabdfdddc21e6ee672926c
X-WR-TIMEZONE:America/New_York
BEGIN:VTIMEZONE
TZID:America/New_York
BEGIN:STANDARD
TZNAME:EST
DTSTART:20191103T020000
TZOFFSETFROM:-0400
TZOFFSETTO:-0500
RDATE:20201101T020000
END:STANDARD
BEGIN:DAYLIGHT
TZNAME:EDT
DTSTART:20190310T020000
TZOFFSETFROM:-0500
TZOFFSETTO:-0400
RDATE:20200308T020000
RDATE:20210314T020000
END:DAYLIGHT
END:VTIMEZONE
BEGIN:VEVENT
UID:05e47ff2-66f8-4d64-8443-8cc4918147a3
DTSTAMP:20260425T121004Z
DESCRIPTION:Webinar with Dr. John Jeffries as part of February Heart Diseas
 e Awareness Month. Details TBD.
DTSTART;TZID=America/New_York:20200219T160000
DTEND;TZID=America/New_York:20200219T170000
LOCATION:
SUMMARY:BSF Webinar (Dr. John Jeffries)
END:VEVENT
END:VCALENDAR
