BEGIN:VCALENDAR
VERSION:2.0
PRODID:-//www.barthsyndrome.org//NONSGML kigkonsult.se iCalcreator 2.30.10/
 /
CALSCALE:GREGORIAN
METHOD:PUBLISH
UID:6fc55012-3993-41bf-bad0-dd106770526d
X-WR-CALDESC:Join a Virtual Meet-Up to meet and learn from other young adul
 ts impacted by a rare or chronic condition who just 'get it' hosted by Our
  Odyssey\n\nAbout this Meeting:  As a young adult\, do you feel like your 
 health needs are often overlooked by the health community? Join our virtua
 l meet-up for a chance to meet\, connect\, and learn from other young adul
 ts who are facing similar challenges. Whether it's dating\, family plannin
 g\, coping with the 'new' normal\, transitioning to your next step in educ
 ation or a career\, or other topics that young adults face\, you're not al
 one.\n\nSpace is limited\, so make sure to register early! Once registerin
 g\, you will receive additional details about accessing the meet-up.\n\nPl
 ease reach out to Our Odyssey at info@ourodyssey.org for further questions
  or go to www.ourodyssey.org to learn more about our work in the community
 .
X-WR-RELCALID:c49fd06e5e44e4cc11bd127b646dfdd4
X-WR-TIMEZONE:America/New_York
BEGIN:VTIMEZONE
TZID:America/New_York
BEGIN:STANDARD
TZNAME:EST
DTSTART:20191103T020000
TZOFFSETFROM:-0400
TZOFFSETTO:-0500
RDATE:20201101T020000
RDATE:20211107T020000
END:STANDARD
BEGIN:DAYLIGHT
TZNAME:EDT
DTSTART:20200308T020000
TZOFFSETFROM:-0500
TZOFFSETTO:-0400
RDATE:20210314T020000
END:DAYLIGHT
END:VTIMEZONE
BEGIN:VEVENT
UID:76bce453-ad37-4fad-bb84-c34f6dc3e0f0
DTSTAMP:20260425T033829Z
DESCRIPTION:Join a Virtual Meet-Up to meet and learn from other young adult
 s impacted by a rare or chronic condition who just 'get it' hosted by Our 
 Odyssey\n\nAbout this Meeting:  As a young adult\, do you feel like your h
 ealth needs are often overlooked by the health community? Join our virtual
  meet-up for a chance to meet\, connect\, and learn from other young adult
 s who are facing similar challenges. Whether it's dating\, family planning
 \, coping with the 'new' normal\, transitioning to your next step in educa
 tion or a career\, or other topics that young adults face\, you're not alo
 ne.\n\nSpace is limited\, so make sure to register early! Once registering
 \, you will receive additional details about accessing the meet-up.\n\nPle
 ase reach out to Our Odyssey at info@ourodyssey.org for further questions 
 or go to www.ourodyssey.org to learn more about our work in the community.
DTSTART;TZID=America/New_York:20200525T130000
DTEND;TZID=America/New_York:20200525T140000
LOCATION:Eventbrite
SUMMARY:Young Adult Meet Up!
END:VEVENT
END:VCALENDAR
