BEGIN:VCALENDAR
VERSION:2.0
PRODID:-//www.barthsyndrome.org//NONSGML kigkonsult.se iCalcreator 2.30.10/
 /
CALSCALE:GREGORIAN
METHOD:PUBLISH
UID:f7375ba1-1d09-4a56-81f9-e1680ae76d97
X-WR-CALDESC:Living with Barth syndrome or being a caregiver for someone wh
 o has Barth syndrome is commonly overwhelming and can be very lonely. This
  is particularly true when you or a loved one are newly with Barth syndrom
 e.  This New Family Meetup is a great way to meet other new families who a
 re probably going through the same challenges you are going through.  You 
 don't need to get dressed up\, just come as you are.  Passcode BSFMeeting
X-WR-RELCALID:d54b629c77e5d85227c8ad759e3f4a3a
X-WR-TIMEZONE:America/New_York
BEGIN:VTIMEZONE
TZID:America/New_York
BEGIN:STANDARD
TZNAME:EST
DTSTART:20201101T020000
TZOFFSETFROM:-0400
TZOFFSETTO:-0500
RDATE:20211107T020000
END:STANDARD
BEGIN:DAYLIGHT
TZNAME:EDT
DTSTART:20210314T020000
TZOFFSETFROM:-0500
TZOFFSETTO:-0400
RDATE:20220313T020000
END:DAYLIGHT
END:VTIMEZONE
BEGIN:VEVENT
UID:2b62815b-6be6-4283-8f52-5341f749b73d
DTSTAMP:20260425T142038Z
DESCRIPTION:Living with Barth syndrome or being a caregiver for someone who
  has Barth syndrome is commonly overwhelming and can be very lonely. This 
 is particularly true when you or a loved one are newly with Barth syndrome
 .  This New Family Meetup is a great way to meet other new families who ar
 e probably going through the same challenges you are going through.  You d
 on't need to get dressed up\, just come as you are.  Passcode BSFMeeting
DTSTART;TZID=America/New_York:20210312T120000
DTEND;TZID=America/New_York:20210312T130000
LOCATION:https://barthsyndrome.zoom.us/j/93660864803
SUMMARY:New Family Meetup
END:VEVENT
END:VCALENDAR
