BEGIN:VCALENDAR
VERSION:2.0
PRODID:-//www.barthsyndrome.org//NONSGML kigkonsult.se iCalcreator 2.30.10/
 /
CALSCALE:GREGORIAN
METHOD:PUBLISH
UID:00371296-5f82-4c45-9079-e0b3234925c4
X-WR-CALDESC:Child Neurology Foundation Transitions of Care Summit\n\nJune 
 15 - June 24\nThe patient voice and experience is an integral part of a su
 ccessful transition from pediatric to adult care. The CNF Transitions of C
 are Summit is focused on ensuring that young adults living with a neurolog
 ic condition and those who support them\, have the knowledge\, tools\, and
  confidence to be able to make the process a success.\n\nThe summit will i
 nclude 7 live talks and 3 pre-recorded videos released to registrants at t
 he start of the event spread out from June 15th to June 24th. Each event w
 ill focus on a different topic related to the transitions process and give
  viewers the opportunity to dig deeper no matter where they are in the tra
 nsition process.
X-WR-RELCALID:f479b5a20b7f000ba90955effd62c12f
X-WR-TIMEZONE:America/New_York
BEGIN:VTIMEZONE
TZID:America/New_York
BEGIN:STANDARD
TZNAME:EST
DTSTART:20201101T020000
TZOFFSETFROM:-0400
TZOFFSETTO:-0500
RDATE:20211107T020000
RDATE:20221106T020000
END:STANDARD
BEGIN:DAYLIGHT
TZNAME:EDT
DTSTART:20210314T020000
TZOFFSETFROM:-0500
TZOFFSETTO:-0400
RDATE:20220313T020000
END:DAYLIGHT
END:VTIMEZONE
BEGIN:VEVENT
UID:575b6473-b007-4992-9c4c-473480937c8c
DTSTAMP:20260425T183338Z
DESCRIPTION:Child Neurology Foundation Transitions of Care Summit\n\nJune 1
 5 - June 24\nThe patient voice and experience is an integral part of a suc
 cessful transition from pediatric to adult care. The CNF Transitions of Ca
 re Summit is focused on ensuring that young adults living with a neurologi
 c condition and those who support them\, have the knowledge\, tools\, and 
 confidence to be able to make the process a success.\n\nThe summit will in
 clude 7 live talks and 3 pre-recorded videos released to registrants at th
 e start of the event spread out from June 15th to June 24th. Each event wi
 ll focus on a different topic related to the transitions process and give 
 viewers the opportunity to dig deeper no matter where they are in the tran
 sition process.
DTSTART;TZID=America/New_York:20210622T190000
DTEND;TZID=America/New_York:20210622T200000
LOCATION:https://www.childneurologyfoundation.org/register-2021-patient-adv
 ocacy-summit/
SUMMARY:Child Neurology Foundation Inaugural 2021 Transitions of Care Summi
 t
END:VEVENT
END:VCALENDAR
