BEGIN:VCALENDAR
VERSION:2.0
PRODID:-//www.barthsyndrome.org//NONSGML kigkonsult.se iCalcreator 2.30.10/
 /
CALSCALE:GREGORIAN
METHOD:PUBLISH
UID:62ba5335-1d07-4cb4-be5f-fdd1177ae957
X-WR-CALDESC:
X-WR-RELCALID:a105457dcb8518c38d4138cf1dda6905
X-WR-TIMEZONE:America/New_York
BEGIN:VTIMEZONE
TZID:America/New_York
BEGIN:STANDARD
TZNAME:EST
DTSTART:20221106T020000
TZOFFSETFROM:-0400
TZOFFSETTO:-0500
RDATE:20231105T020000
END:STANDARD
BEGIN:DAYLIGHT
TZNAME:EDT
DTSTART:20220313T020000
TZOFFSETFROM:-0500
TZOFFSETTO:-0400
RDATE:20230312T020000
RDATE:20240310T020000
END:DAYLIGHT
END:VTIMEZONE
BEGIN:VEVENT
UID:4637a6ed-01e9-4db2-8edd-11ec4a50a370
DTSTAMP:20260424T124316Z
DESCRIPTION:
DTSTART;TZID=America/New_York:20221210T193000
DTEND;TZID=America/New_York:20221210T203000
LOCATION:
SUMMARY:Year End Celebration (Session 2)
END:VEVENT
END:VCALENDAR
