BEGIN:VCALENDAR
VERSION:2.0
PRODID:-//www.barthsyndrome.org//NONSGML kigkonsult.se iCalcreator 2.30.10/
 /
CALSCALE:GREGORIAN
METHOD:PUBLISH
UID:6c375ffe-58ab-4c82-be8c-6ca008c21030
X-WR-CALDESC:The Barth Syndrome Clinic at Kennedy Krieger Institute is an i
 nterdisciplinary clinic dedicated to the diagnosis and treatment of Barth 
 Syndrome.
X-WR-RELCALID:731f7d17db2df13a39571badeee5ae82
X-WR-TIMEZONE:America/New_York
BEGIN:VTIMEZONE
TZID:America/New_York
BEGIN:STANDARD
TZNAME:EST
DTSTART:20221106T020000
TZOFFSETFROM:-0400
TZOFFSETTO:-0500
RDATE:20231105T020000
END:STANDARD
BEGIN:DAYLIGHT
TZNAME:EDT
DTSTART:20220313T020000
TZOFFSETFROM:-0500
TZOFFSETTO:-0400
RDATE:20230312T020000
RDATE:20240310T020000
END:DAYLIGHT
END:VTIMEZONE
BEGIN:VEVENT
UID:0163c007-d689-4df6-b529-42dd84d67627
DTSTAMP:20260424T174758Z
DESCRIPTION:The Barth Syndrome Clinic at Kennedy Krieger Institute is an in
 terdisciplinary clinic dedicated to the diagnosis and treatment of Barth S
 yndrome.
DTSTART;TZID=America/New_York:20230307T000000
DTEND;TZID=America/New_York:20230307T235900
LOCATION:Barth Syndrome Clinic at Kennedy Krieger Institute\, 801 North Bro
 adway\, Baltimore\, MD 21205 US
SUMMARY:Barth Syndrome Clinic (KKI)
END:VEVENT
END:VCALENDAR
