BEGIN:VCALENDAR
VERSION:2.0
PRODID:-//www.barthsyndrome.org//NONSGML kigkonsult.se iCalcreator 2.30.10/
 /
CALSCALE:GREGORIAN
METHOD:PUBLISH
UID:919900dd-42a7-428e-9473-5270c9da7ccd
X-WR-CALDESC:
X-WR-RELCALID:f1a8dc18b1c8a658f18a6dee52ca0ea1
X-WR-TIMEZONE:America/New_York
BEGIN:VTIMEZONE
TZID:America/New_York
BEGIN:STANDARD
TZNAME:EST
DTSTART:20221106T020000
TZOFFSETFROM:-0400
TZOFFSETTO:-0500
RDATE:20231105T020000
RDATE:20241103T020000
END:STANDARD
BEGIN:DAYLIGHT
TZNAME:EDT
DTSTART:20230312T020000
TZOFFSETFROM:-0500
TZOFFSETTO:-0400
RDATE:20240310T020000
END:DAYLIGHT
END:VTIMEZONE
BEGIN:VEVENT
UID:a33687a3-7ef4-4426-a22f-a5f94ada0d8d
DTSTAMP:20260425T035748Z
DESCRIPTION:
DTSTART;TZID=America/New_York:20230901T120000
DTEND;TZID=America/New_York:20230901T130000
LOCATION:
SUMMARY:Preparing for your Legislative Meeting
END:VEVENT
END:VCALENDAR
