BEGIN:VCALENDAR
VERSION:2.0
PRODID:-//www.barthsyndrome.org//NONSGML kigkonsult.se iCalcreator 2.30.10/
 /
CALSCALE:GREGORIAN
METHOD:PUBLISH
UID:d2947715-e41d-4e21-a97a-81ee6baee0fe
X-WR-CALDESC:Click below to read more: \nhttps://www.barthsyndrome.org/bart
 hsyndrome/familyresources/research-summaries/gene-therapy-and-the-role-of-
 exercise.html\n \nMeeting ID: 333 055 172 \nCode: BSFMeeting
X-WR-RELCALID:7aac4492447fe9173d2bc6f3875fc5dc
X-WR-TIMEZONE:America/New_York
BEGIN:VTIMEZONE
TZID:America/New_York
BEGIN:STANDARD
TZNAME:EST
DTSTART:20231105T020000
TZOFFSETFROM:-0400
TZOFFSETTO:-0500
RDATE:20241103T020000
END:STANDARD
BEGIN:DAYLIGHT
TZNAME:EDT
DTSTART:20240310T020000
TZOFFSETFROM:-0500
TZOFFSETTO:-0400
RDATE:20250309T020000
END:DAYLIGHT
END:VTIMEZONE
BEGIN:VEVENT
UID:153bafdc-7f24-40a4-a5d0-39449b090b91
DTSTAMP:20260425T144014Z
DESCRIPTION:Click below to read more: \nhttps://www.barthsyndrome.org/barth
 syndrome/familyresources/research-summaries/gene-therapy-and-the-role-of-e
 xercise.html\n \nMeeting ID: 333 055 172 \nCode: BSFMeeting
DTSTART;TZID=America/New_York:20240322T120000
DTEND;TZID=America/New_York:20240322T130000
LOCATION:https://barthsyndrome.zoom.us/j/333055172
SUMMARY:Research Roundtable with Drs. Todd Cade & Christy Pacak
END:VEVENT
END:VCALENDAR
