BEGIN:VCALENDAR
VERSION:2.0
PRODID:-//www.barthsyndrome.org//NONSGML kigkonsult.se iCalcreator 2.30.10/
 /
CALSCALE:GREGORIAN
METHOD:PUBLISH
UID:9400e9f1-ef4e-4fda-835d-c62b245919e3
X-WR-CALDESC:This Biannual Research Update is exclusively for adults who ha
 ve a diagnosis of Barth syndrome. BSF Director of Research and Development
 . This is a time to learn about the research that is being conducted to be
 nefit those who have Barth syndrome. If you have questions that you would 
 like to submit in advance\, please do so through BSF internal communicatio
 n channels.  If you are new to BSF reach out to Shelley Bowen for more inf
 ormation.  This biannual meeting is in place of the regularly scheduled bi
 -weekly meetup calls with Iyar Mazar and Jon Stokes.
X-WR-RELCALID:35b384204ef988f48862925e4c6ad451
X-WR-TIMEZONE:America/New_York
BEGIN:VTIMEZONE
TZID:America/New_York
BEGIN:STANDARD
TZNAME:EST
DTSTART:20231105T020000
TZOFFSETFROM:-0400
TZOFFSETTO:-0500
RDATE:20241103T020000
END:STANDARD
BEGIN:DAYLIGHT
TZNAME:EDT
DTSTART:20240310T020000
TZOFFSETFROM:-0500
TZOFFSETTO:-0400
RDATE:20250309T020000
END:DAYLIGHT
END:VTIMEZONE
BEGIN:VEVENT
UID:d2542c6b-a1a0-4a39-abf1-bd9a13bde004
DTSTAMP:20260425T161511Z
DESCRIPTION:This Biannual Research Update is exclusively for adults who hav
 e a diagnosis of Barth syndrome. BSF Director of Research and Development.
  This is a time to learn about the research that is being conducted to ben
 efit those who have Barth syndrome. If you have questions that you would l
 ike to submit in advance\, please do so through BSF internal communication
  channels.  If you are new to BSF reach out to Shelley Bowen for more info
 rmation.  This biannual meeting is in place of the regularly scheduled bi-
 weekly meetup calls with Iyar Mazar and Jon Stokes.
DTSTART;TZID=America/New_York:20240418T170000
DTEND;TZID=America/New_York:20240418T180000
LOCATION:https://barthsyndrome.zoom.us/j/92057425911
SUMMARY:Research Update with Dr. Lindsay Marjoram\, PhD
END:VEVENT
END:VCALENDAR
