BEGIN:VCALENDAR
VERSION:2.0
PRODID:-//www.barthsyndrome.org//NONSGML kigkonsult.se iCalcreator 2.30.10/
 /
CALSCALE:GREGORIAN
METHOD:PUBLISH
UID:026fa769-0988-4917-a20e-f7d2e0721822
X-WR-CALDESC:Click below to read more: \nhttps://www.barthsyndrome.org/bart
 hsyndrome/familyresources/research-summaries/how-loss-of-tafazzin-function
 -ignites-mitochondrial-dysfunction.html\n \nMeeting ID: 333 055 172 \nCode
 : BSFMeeting
X-WR-RELCALID:e75b44f8f0002f5df1c10fe1d47bf8af
X-WR-TIMEZONE:America/New_York
BEGIN:VTIMEZONE
TZID:America/New_York
BEGIN:STANDARD
TZNAME:EST
DTSTART:20231105T020000
TZOFFSETFROM:-0400
TZOFFSETTO:-0500
RDATE:20241103T020000
END:STANDARD
BEGIN:DAYLIGHT
TZNAME:EDT
DTSTART:20240310T020000
TZOFFSETFROM:-0500
TZOFFSETTO:-0400
RDATE:20250309T020000
END:DAYLIGHT
END:VTIMEZONE
BEGIN:VEVENT
UID:0688851e-f870-47af-89d6-2db17ca8feee
DTSTAMP:20260425T161220Z
DESCRIPTION:Click below to read more: \nhttps://www.barthsyndrome.org/barth
 syndrome/familyresources/research-summaries/how-loss-of-tafazzin-function-
 ignites-mitochondrial-dysfunction.html\n \nMeeting ID: 333 055 172 \nCode:
  BSFMeeting
DTSTART;TZID=America/New_York:20240426T120000
DTEND;TZID=America/New_York:20240426T130000
LOCATION:https://barthsyndrome.zoom.us/j/333055172
SUMMARY:Fourth Friday Round Table with Drs. Miriam Greenberg\, Valerian Kag
 an\, & Hulya Bayir
END:VEVENT
END:VCALENDAR
