BEGIN:VCALENDAR
VERSION:2.0
PRODID:-//www.barthsyndrome.org//NONSGML kigkonsult.se iCalcreator 2.30.10/
 /
CALSCALE:GREGORIAN
METHOD:PUBLISH
UID:fb2bcff8-997e-4e95-87bf-951de704e18a
X-WR-CALDESC:
X-WR-RELCALID:9379483e3fdbff1fb99eb9937f6525da
X-WR-TIMEZONE:America/New_York
BEGIN:VTIMEZONE
TZID:America/New_York
BEGIN:STANDARD
TZNAME:EST
DTSTART:20231105T020000
TZOFFSETFROM:-0400
TZOFFSETTO:-0500
RDATE:20241103T020000
RDATE:20251102T020000
END:STANDARD
BEGIN:DAYLIGHT
TZNAME:EDT
DTSTART:20240310T020000
TZOFFSETFROM:-0500
TZOFFSETTO:-0400
RDATE:20250309T020000
RDATE:20260308T020000
END:DAYLIGHT
END:VTIMEZONE
BEGIN:VEVENT
UID:3e349daf-5b5e-4504-b0cb-c7067c2b0353
DTSTAMP:20260425T220632Z
DESCRIPTION:
DTSTART;TZID=America/New_York:20240923T120000
DTEND;TZID=America/New_York:20240923T130000
LOCATION:
SUMMARY:AdComm: Docket Office Hours
END:VEVENT
END:VCALENDAR
