BEGIN:VCALENDAR
VERSION:2.0
PRODID:-//www.barthsyndrome.org//NONSGML kigkonsult.se iCalcreator 2.30.10/
 /
CALSCALE:GREGORIAN
METHOD:PUBLISH
UID:f3d19dee-3d8a-46b3-8422-8b0f0ff0e18e
X-WR-CALDESC:Brittany DeCroes Hornby\, PT\, DPT\, is a board-certified pedi
 atric physical therapist specializing in mitochondrial disorders\, with a 
 focus on Barth syndrome. She collaborates with the Barth Syndrome Clinic a
 t Kennedy Krieger Institute and has a background in pediatric physical the
 rapy research and clinical care. Join us tomorrow to hear about the on-sit
 e research she conducted at the 2024 Barth Syndrome International Conferen
 ce.\n\nPlease email Melissa.Huang@barthsyndrome.org for meeting details.
X-WR-RELCALID:53205c702110a92ceab10d126eb7496d
X-WR-TIMEZONE:America/New_York
BEGIN:VTIMEZONE
TZID:America/New_York
BEGIN:STANDARD
TZNAME:EST
DTSTART:20241103T020000
TZOFFSETFROM:-0400
TZOFFSETTO:-0500
RDATE:20251102T020000
END:STANDARD
BEGIN:DAYLIGHT
TZNAME:EDT
DTSTART:20250309T020000
TZOFFSETFROM:-0500
TZOFFSETTO:-0400
RDATE:20260308T020000
END:DAYLIGHT
END:VTIMEZONE
BEGIN:VEVENT
UID:17e54409-c777-4db9-bfba-a1460fdb6cd9
DTSTAMP:20260425T123611Z
DESCRIPTION:Brittany DeCroes Hornby\, PT\, DPT\, is a board-certified pedia
 tric physical therapist specializing in mitochondrial disorders\, with a f
 ocus on Barth syndrome. She collaborates with the Barth Syndrome Clinic at
  Kennedy Krieger Institute and has a background in pediatric physical ther
 apy research and clinical care. Join us tomorrow to hear about the on-site
  research she conducted at the 2024 Barth Syndrome International Conferenc
 e.\n\nPlease email Melissa.Huang@barthsyndrome.org for meeting details.
DTSTART;TZID=America/New_York:20250328T120000
DTEND;TZID=America/New_York:20250328T130000
LOCATION:https://barthsyndrome.zoom.us/j/333055172
SUMMARY:Fourth Friday Round Table with Brittany Hornby\, PT\, DPT
END:VEVENT
END:VCALENDAR
